BEGIN:VCALENDAR
VERSION:2.0
PRODID:-//UMaine Online - ECPv6.15.17.1//NONSGML v1.0//EN
CALSCALE:GREGORIAN
METHOD:PUBLISH
X-WR-CALNAME:UMaine Online
X-ORIGINAL-URL:https://online.umaine.edu
X-WR-CALDESC:Events for UMaine Online
REFRESH-INTERVAL;VALUE=DURATION:PT1H
X-Robots-Tag:noindex
X-PUBLISHED-TTL:PT1H
BEGIN:VTIMEZONE
TZID:America/New_York
BEGIN:DAYLIGHT
TZOFFSETFROM:-0500
TZOFFSETTO:-0400
TZNAME:EDT
DTSTART:20220313T070000
END:DAYLIGHT
BEGIN:STANDARD
TZOFFSETFROM:-0400
TZOFFSETTO:-0500
TZNAME:EST
DTSTART:20221106T060000
END:STANDARD
BEGIN:DAYLIGHT
TZOFFSETFROM:-0500
TZOFFSETTO:-0400
TZNAME:EDT
DTSTART:20230312T070000
END:DAYLIGHT
BEGIN:STANDARD
TZOFFSETFROM:-0400
TZOFFSETTO:-0500
TZNAME:EST
DTSTART:20231105T060000
END:STANDARD
BEGIN:DAYLIGHT
TZOFFSETFROM:-0500
TZOFFSETTO:-0400
TZNAME:EDT
DTSTART:20240310T070000
END:DAYLIGHT
BEGIN:STANDARD
TZOFFSETFROM:-0400
TZOFFSETTO:-0500
TZNAME:EST
DTSTART:20241103T060000
END:STANDARD
END:VTIMEZONE
BEGIN:VEVENT
DTSTART;TZID=America/New_York:20230126T120000
DTEND;TZID=America/New_York:20230126T130000
DTSTAMP:20260421T143652
CREATED:20230112T143507Z
LAST-MODIFIED:20230117T212022Z
UID:10000009-1674734400-1674738000@online.umaine.edu
SUMMARY:Coffee Chat
DESCRIPTION:
URL:https://online.umaine.edu/event/upcoming-coffee-chats/
END:VEVENT
BEGIN:VEVENT
DTSTART;TZID=America/New_York:20230223T120000
DTEND;TZID=America/New_York:20230223T130000
DTSTAMP:20260421T143652
CREATED:20230112T143507Z
LAST-MODIFIED:20230117T230427Z
UID:10000010-1677153600-1677157200@online.umaine.edu
SUMMARY:Coffee Chat
DESCRIPTION:
URL:https://online.umaine.edu/event/upcoming-coffee-chats-2023-02-27/
END:VEVENT
BEGIN:VEVENT
DTSTART;TZID=America/New_York:20230330T160000
DTEND;TZID=America/New_York:20230330T170000
DTSTAMP:20260421T143652
CREATED:20230112T143507Z
LAST-MODIFIED:20230224T171521Z
UID:10000011-1680192000-1680195600@online.umaine.edu
SUMMARY:Coffee Chat
DESCRIPTION:
URL:https://online.umaine.edu/event/upcoming-coffee-chats-2023-03-27/
END:VEVENT
BEGIN:VEVENT
DTSTART;TZID=America/New_York:20230420T153000
DTEND;TZID=America/New_York:20230420T163000
DTSTAMP:20260421T143652
CREATED:20230112T143507Z
LAST-MODIFIED:20230224T171612Z
UID:10000012-1682004600-1682008200@online.umaine.edu
SUMMARY:Coffee Chat
DESCRIPTION:
URL:https://online.umaine.edu/event/upcoming-coffee-chats-2023-04-27/
END:VEVENT
END:VCALENDAR